BEGIN:VCALENDAR
VERSION:2.0
CALSCALE:GREGORIAN
PRODID:-//MyApp//Calendar 1.0//EN
BEGIN:VEVENT
METHOD:PUBLISH
UID:35700@regionalniportaly.cz
DTSTAMP:20260421T222150Z
DTSTART;VALUE=DATE:20231207
DTEND;VALUE=DATE:20231208
SUMMARY:Vánoční koncert Petr Bende a hosté
DESCRIPTION:Vánoční koncert Petra Bendeho a jeho hostů 7.12.2023 na kulturním domě ve Svatobořicích-Mistříně v 19.00hod. Petr Bende zazpívá s dětským sborem ZUŠ Dubňany.Vstupenky v předprodeji za 450Kč můžete zakoupit online na portálu smsticket.cz nebo v kanceláři KD. Na místě 490Kč.&nbsp\;
LOCATION:Svatobořice-Mistřín
END:VEVENT
END:VCALENDAR