BEGIN:VCALENDAR
VERSION:2.0
CALSCALE:GREGORIAN
PRODID:-//MyApp//Calendar 1.0//EN
BEGIN:VEVENT
METHOD:PUBLISH
UID:35739@regionalniportaly.cz
DTSTAMP:20260422T023531Z
DTSTART;VALUE=DATE:20231216
DTEND;VALUE=DATE:20231217
SUMMARY:Evil Death fest
DESCRIPTION:Koncert death &amp\; thrash metal:HYPNOS / death / CZEVASTNESS / death &amp\; thrash / PLEXORCIZPHOBIA / thrash / CZEGENOTHYPE / HC groove metal / CZEF.O.B / death-core/ CZ&nbsp\;
LOCATION:Uherské Hradiště
END:VEVENT
END:VCALENDAR