BEGIN:VCALENDAR
VERSION:2.0
CALSCALE:GREGORIAN
PRODID:-//MyApp//Calendar 1.0//EN
BEGIN:VEVENT
METHOD:PUBLISH
UID:35815@regionalniportaly.cz
DTSTAMP:20260422T023713Z
DTSTART;VALUE=DATE:20240216
DTEND;VALUE=DATE:20240217
SUMMARY:Dunaj
DESCRIPTION:Legendární kapela jejíž místo na hudební mapě je neotřesitelné.
LOCATION:Uherské Hradiště
END:VEVENT
END:VCALENDAR