BEGIN:VCALENDAR
VERSION:2.0
CALSCALE:GREGORIAN
PRODID:-//MyApp//Calendar 1.0//EN
BEGIN:VEVENT
METHOD:PUBLISH
UID:35927@regionalniportaly.cz
DTSTAMP:20260422T000428Z
DTSTART;VALUE=DATE:20231105
DTEND;VALUE=DATE:20231106
SUMMARY:Divadlo PECKA - Normální debil 2 aneb Kalendárium
DESCRIPTION:Spolu se známým průšvihářem Norbertem Intribusem se tentokrát přeneseme do socialistických let osmdesátých. Nové příběhy hlavního hrdiny odehrávající se na střední škole\, ve vojenském útvaru\, nebo oblastním divadle se prolínají s&nbsp\;historickými událostmi. Kdo zažil skutečný Discopříběh? Jak vlastně začala Sametová revoluce? Koho nejvíc ovlivnil legendární projev Milouše Jakeše? Kde byl poprvé spatřen bod G? Volné pokračování populární hry Roberta Bellana jako seriózní výlet do historie i parodická komedie. Na své si opět přijdou i milovníci retro vysílání Československé televize a dobové Pop music.&nbsp\;&nbsp\;Hrají: David Macháček\, Martin Vrtáček\, Anna Pospíchalová\, David Vaculík&nbsp\;Režie: Robert BellanVýprava:&nbsp\;Šárka BellanováChoreografie:&nbsp\;Jarmila KrystoňováSvětlo/Zvuk:&nbsp\;Jaroslav Tylich\, Michal Kedroň
LOCATION:Vlčnov
END:VEVENT
END:VCALENDAR