BEGIN:VCALENDAR
VERSION:2.0
CALSCALE:GREGORIAN
PRODID:-//MyApp//Calendar 1.0//EN
BEGIN:VEVENT
METHOD:PUBLISH
UID:35971@regionalniportaly.cz
DTSTAMP:20260422T072722Z
DTSTART;VALUE=DATE:20240224
DTEND;VALUE=DATE:20240225
SUMMARY:DEBUSTROL & Hejtman
DESCRIPTION:DEBUSTROL&nbsp\; je kult a přestavovat tuhle Kolinsovu smečku je ohraný song.Ale kohopak si pozvali na tour ?Je to kapela Hejtman jejichž kořeny sahají až do roku 2007 \, ale v roce 2021 vtrhli obnoveni a v plné síle na podia . COMEBACK!Nová sestava z epésních muzikantů: Onslaughter z legendárních Debustrol\, Marty z legendárních Šanov 1\, Andrew z legendárních Marry B a Ygy je furt ten stejnej
LOCATION:Uherské Hradiště
END:VEVENT
END:VCALENDAR