BEGIN:VCALENDAR
VERSION:2.0
CALSCALE:GREGORIAN
PRODID:-//MyApp//Calendar 1.0//EN
BEGIN:VEVENT
METHOD:PUBLISH
UID:35972@regionalniportaly.cz
DTSTAMP:20260422T000349Z
DTSTART;VALUE=DATE:20231111
DTEND;VALUE=DATE:20231112
SUMMARY:Jazz Q Martin Kratochvíl
DESCRIPTION:Jazz Q&nbsp\;je&nbsp\;jazz rocková&nbsp\;a&nbsp\;art rocková&nbsp\;skupina spojená především se jménem svého hlavního spoluzakladatele klávesisty a skladatele&nbsp\;Martina Kratochvíla.Počátky kapely sahají do 60tých let minulého století a zajímavý je seznam jednotlivých členů tohoto uskupení\,kteří zde hráli : asi nejznámější sestava byla v&nbsp\;70tých letech –Martin Kratochvíl&nbsp\;– elektrofonické&nbsp\;klávesové nástrojeVladimír Padrůněk&nbsp\;–&nbsp\;baskytaraLuboš Andršt&nbsp\;–&nbsp\;kytara\, později&nbsp\;František Francl&nbsp\;a Zdeněk FišerMichal Vrbovec&nbsp\;–&nbsp\;bicídále to pak třeba byli : Jana Kratochvílová \, Michael Kocáb\,Jiří Stivín\,Petr Kalandra\,Ondřej Hejma nebo Oskar Petr.Kapela i nyní neúnavně koncertuje \,kdy se s Martinem na podiu zjevuje&nbsp\;Zdeněk Fišer ( kytara) \,Přemysl Faukner ( baskytara) a za bicí&nbsp\;usedá z nejmladší generace Filip Jeníček.Klub Mír má tu čest premiérově přivítat Jazz Q &nbsp\;na svátek svatého Martina.
LOCATION:Uherské Hradiště
END:VEVENT
END:VCALENDAR