BEGIN:VCALENDAR
VERSION:2.0
CALSCALE:GREGORIAN
PRODID:-//MyApp//Calendar 1.0//EN
BEGIN:VEVENT
METHOD:PUBLISH
UID:36143@regionalniportaly.cz
DTSTAMP:20260422T012151Z
DTSTART;VALUE=DATE:20231118
DTEND;VALUE=DATE:20231119
SUMMARY:Košt mladých vín Sudoměřice 2023
DESCRIPTION:Spolek ZO ČZS Sudoměřice zve všechny příznivce&nbsp\;vín na první&nbsp\;ročník „Košt&nbsp\;mladých vín od vinařů ze Sudoměřic“. Na této akci bude možnost ochutnat vína jak od&nbsp\;profesionálních vinařů "VINAŘSTVÍ BUČKOVI\, VINAŘSTVÍ PAVLA BRÁZDOVÁ\, VINAŘSTVÍ VEVERKA\, VINAŘ JIŘÍ UHEREK"\, ale také&nbsp\;od amatérských vinařů.Přijďte\, jste srdečně zváni\, těšíme se na vaši návštěvu.
LOCATION:Sudoměřice
END:VEVENT
END:VCALENDAR