BEGIN:VCALENDAR
VERSION:2.0
CALSCALE:GREGORIAN
PRODID:-//MyApp//Calendar 1.0//EN
BEGIN:VEVENT
METHOD:PUBLISH
UID:36489@regionalniportaly.cz
DTSTAMP:20260422T005709Z
DTSTART;VALUE=DATE:20240112
DTEND;VALUE=DATE:20240113
SUMMARY:SLAM POETRY vánoční
DESCRIPTION:Performativní žánr přednesu autorské poezie. Žádné kostýmy. Ani rekvizity. Vlastní text. Nebo improvizace. Dojetí! Smích? Dekadence?! A body publika! Slam!!!a už se nám rýsuje sestava předvánočního večera:Anatol Svahilec - patron akce a aktivní účastníkVašek z AšeKvido LotrekBenHonza NevečeřalKari…a další!
LOCATION:Uherské Hradiště
END:VEVENT
END:VCALENDAR