BEGIN:VCALENDAR
VERSION:2.0
CALSCALE:GREGORIAN
PRODID:-//MyApp//Calendar 1.0//EN
BEGIN:VEVENT
METHOD:PUBLISH
UID:36845@regionalniportaly.cz
DTSTAMP:20260422T090003Z
DTSTART;VALUE=DATE:20240621
DTEND;VALUE=DATE:20240622
SUMMARY:Festival Mezi Sklepy 2024
DESCRIPTION:Další ročník ojedinělého festivalu otevřených mutěnických sklepů s dvoudenním doprovodným hudebním multižánrovým programem se blíží.Festival Mezi Sklepy je akce\, která nemá na Jižní Moravě obdoby. Hudební program je složený ze známých interpretů a kapel\, ale nově také z hudebních těles\, které svým hudebním projevem překvapí mnohé z nás. Protože se nejedná pouze o hudební festival\, snažíme se\, aby byl doprovodný program v rámci festivalu Mezi Sklepy pestrý a zajímavý pro všechny věkové skupiny.V rámci festivalu&nbsp\; bude otevřeno přes 45 vinných sklepů v mutěnickém sklepním labyrintu v areálu Pod Búdama\, kde je soustředěno více jak 500 vinných sklepů.Všichni\, kteří se minulých ročníků zúčastnili\, tuto jedinečnou atmosféru již zažili. V letošním roce jsme připravili v první vlně bezkonkurenční cenu za V.I.P. GOLDEN TICKET s jedinečným a pestrým hudebním programem.Hlavním cílem festivalu Mezi Sklepy je propojení dobrého moravského vína a nejrůznějších hudebních žánrů\, podpora místních vinařů\, místních tradic a setkání dobrých a pohodových lidí a podpora cestovního ruchu v Mutěnicích. V průběhu festivalu bude probíhat ochutnávka a prodej vín a doprovodný program pro dospělé a mládež.
LOCATION:Mutěnice
END:VEVENT
END:VCALENDAR