BEGIN:VCALENDAR
VERSION:2.0
CALSCALE:GREGORIAN
PRODID:-//MyApp//Calendar 1.0//EN
BEGIN:VEVENT
METHOD:PUBLISH
UID:36885@regionalniportaly.cz
DTSTAMP:20260422T101431Z
DTSTART;VALUE=DATE:20240525
DTEND;VALUE=DATE:20240526
SUMMARY:Za vínem na Podluží
DESCRIPTION:Přibližně 17 vinařů a vinařství z obcí Tvrdonic\, Kostic&nbsp\;a Lanžhota otevře své sklepy. Přijďte ochutnat lahodné víno přímo od vinařů na Podluží. Pro zlepšení nálady bude hrát Hrušecká&nbsp\;cimbálová muzika. Bude možné také ochutnat italské&nbsp\;speciality od rodinných výrobců z Calabrie\, čerstvě praženou&nbsp\;kávu&nbsp\;a další lahůdky. V ceně vstupenky je zahrnut i převoz mezi sklepy koňským povozem.
LOCATION:Tvrdonice
END:VEVENT
END:VCALENDAR