BEGIN:VCALENDAR
VERSION:2.0
CALSCALE:GREGORIAN
PRODID:-//MyApp//Calendar 1.0//EN
BEGIN:VEVENT
METHOD:PUBLISH
UID:36913@regionalniportaly.cz
DTSTAMP:20260422T005659Z
DTSTART;VALUE=DATE:20240217
DTEND;VALUE=DATE:20240218
SUMMARY:Monkey Business
DESCRIPTION:Roman Holý a jeho parta výrazných osobností podléhajících Romanovi a&nbsp\;&nbsp\;stylu funky.Na kulturní frontě klid?Ale kdeže!Kultura je moc důležitá.Bez ní bychom byli dočista ztraceni.Monkey Business jsou si toho dobře vědomi\,a proto vyrážejí na šňůru s vděkuplným názvem "...ale stejně je to nádhera..." Tour 2024\,s cílem přispět i svojí troškou do českého kulturního mlýna.
LOCATION:Uherské Hradiště
END:VEVENT
END:VCALENDAR