BEGIN:VCALENDAR
VERSION:2.0
CALSCALE:GREGORIAN
PRODID:-//MyApp//Calendar 1.0//EN
BEGIN:VEVENT
METHOD:PUBLISH
UID:37069@regionalniportaly.cz
DTSTAMP:20260424T112735Z
DTSTART;VALUE=DATE:20240330
DTEND;VALUE=DATE:20240331
SUMMARY:PROUZA - Září - Šufunky gang
DESCRIPTION:Prosadili se zkraje devadesátých let. Hráli temnou muziku inspirovanou anglickou kytarovou scénou\, od Joy Division po The Cure. Z jejich hudby byla cítit bezútěšnost\, nevlídnost kraje\, odkud pocházely. Před&nbsp\;lety patřily jejich společné koncerty k nejvyhledávanějším&nbsp\;klubovým atrakcím. Priessnitz a Prouza.Devadesátkový opar kytarovek\,shoegaze\,indies....&nbsp\;velký návrat kapely Prouza na prkna klubu v doprovodu zlínských mistrů Šufunky gang a veselé skupiny&nbsp\;Září.
LOCATION:Uherské Hradiště
END:VEVENT
END:VCALENDAR