BEGIN:VCALENDAR
VERSION:2.0
CALSCALE:GREGORIAN
PRODID:-//MyApp//Calendar 1.0//EN
BEGIN:VEVENT
METHOD:PUBLISH
UID:37070@regionalniportaly.cz
DTSTAMP:20260422T040645Z
DTSTART;VALUE=DATE:20240413
DTEND;VALUE=DATE:20240414
SUMMARY:INSANIA
DESCRIPTION:Cenami ověnčená Insania za album Grrrotesky ( Anděl \, Břitva) a nejlepší klip Placatej svět (Břitva) jede peklo !Jako host se představí kapela Free Fall s novou zpěvačkou !
LOCATION:Uherské Hradiště
END:VEVENT
END:VCALENDAR