BEGIN:VCALENDAR
VERSION:2.0
CALSCALE:GREGORIAN
PRODID:-//MyApp//Calendar 1.0//EN
BEGIN:VEVENT
METHOD:PUBLISH
UID:37108@regionalniportaly.cz
DTSTAMP:20260422T054515Z
DTSTART;VALUE=DATE:20240308
DTEND;VALUE=DATE:20240309
SUMMARY:HOUBA - Punk Floid - Bez šance
DESCRIPTION:Na MDŽ jsme pozvali milé punkáče z kapel Houba - Punk floid a Bez šance\,kteří nám ukáží jak se hraje punkrock pěkně od podlahy.Dámy maj v kotli přednost ...tak bacha chlapáci.
LOCATION:Uherské Hradiště
END:VEVENT
END:VCALENDAR