BEGIN:VCALENDAR
VERSION:2.0
CALSCALE:GREGORIAN
PRODID:-//MyApp//Calendar 1.0//EN
BEGIN:VEVENT
METHOD:PUBLISH
UID:37123@regionalniportaly.cz
DTSTAMP:20260422T041653Z
DTSTART;VALUE=DATE:20240409
DTEND;VALUE=DATE:20240410
SUMMARY:The Beatles revival + Karel Kahovec | Uherské Hradiště
DESCRIPTION:Největší hity legendární skupiny BEATLES a hvězdy 60.let Karla Kahovce v Uherském Hradišti!1. The Beatles revival - Jedna z nejúspěšnějších evropských revivalových skupin - vystupuje od roku 1992 a to nejen v Čechách\, ale i Holandsku\, Polsku\, Francii\, Maďarsku\, Slovensku a dokonce i v rodišti legendární čtveřice - severoanglickém Liverpoolu! Těšit se můžete na největší hity "Brouků" téměř v originálním podání.&nbsp\;2. Legendární Karel Kahovec - zpěvák Vám přiveze hity nejen svoje\, ale zavzpomínáme i na hity Petra Nováka.&nbsp\;
LOCATION:Uherské Hradiště
END:VEVENT
END:VCALENDAR