BEGIN:VCALENDAR
VERSION:2.0
CALSCALE:GREGORIAN
PRODID:-//MyApp//Calendar 1.0//EN
BEGIN:VEVENT
METHOD:PUBLISH
UID:37215@regionalniportaly.cz
DTSTAMP:20260422T041714Z
DTSTART;VALUE=DATE:20240127
DTEND;VALUE=DATE:20240128
SUMMARY:Dětská Tlapková Párty / MIKULČICE
DESCRIPTION:Oblíbená tlapková párty míří poprvé do Mikulčic!&nbsp\;Tento den bude patřit všem dětem!&nbsp\;Čeká Vás taneční program\, hudba z pohádek\, malování na obličej a hned několik pohádkových postaviček\, které Vaše děti milují a se kterými se budou moci i vyfotit.&nbsp\;PRO DĚTI:- Diskotéka a tancování s postavičkami- Oblíbené pohádkové postavičky- Malování na obličej- Focení s maskotyPROGRAM: 15:00 Otevření prostoru\, 15:35&nbsp\;Hlavní program\, 16:30 Focení s maskoty\, 17:30 KonecDěti do 2 let&nbsp\; (tzv. do 24 měsíců)&nbsp\;zdarma bez vstupenky\, každý jiný návštěvník musí mít platnou vstupenku\, cena vstupenek je shodná pro děti i dospělé.Tým HappyKid!&nbsp\;
LOCATION:Mikulčice
END:VEVENT
END:VCALENDAR