BEGIN:VCALENDAR
VERSION:2.0
CALSCALE:GREGORIAN
PRODID:-//MyApp//Calendar 1.0//EN
BEGIN:VEVENT
METHOD:PUBLISH
UID:37234@regionalniportaly.cz
DTSTAMP:20260422T070311Z
DTSTART;VALUE=DATE:20240322
DTEND;VALUE=DATE:20240323
SUMMARY:VLTAVA
DESCRIPTION:Hudba \, která dokáže pohladit a potěšit duši.„Přeji si\, aby naše písničková zpráva vždy obsahovala radost\, aby byla pozitivní a pro zájemce také hluboká. Všechny naše písně mají svůj odraz v životě\, v zážitcích a pocitech\, které jsou mnoha lidem společné. Na koncertech to zjišťujeme stále znovu.“(Robert Nebřenský)Sestava:Robert Nebřenský – zpěv\, kytaryFrantišek Svačina – klávesy\, akordeonTomáš Uhlík – baskytaraOndřej Klímek – dechové nástrojeOndřej Pomajsl – bicí
LOCATION:Uherské Hradiště
END:VEVENT
END:VCALENDAR