BEGIN:VCALENDAR
VERSION:2.0
CALSCALE:GREGORIAN
PRODID:-//MyApp//Calendar 1.0//EN
BEGIN:VEVENT
METHOD:PUBLISH
UID:37459@regionalniportaly.cz
DTSTAMP:20260422T054525Z
DTSTART;VALUE=DATE:20240217
DTEND;VALUE=DATE:20240218
SUMMARY:Benefiční ples Nadačního fondu LOVE Dědině
DESCRIPTION:Srdečně Vás zveme na druhý ročník Benefičního plesu Nadačního fondu LOVE Dědině.Cílem plesu je podpořit nemocnou Verunku a její rodinu.K poslechu\, tanci&nbsp\;zahraje místní populární kapela KUMPÁNI a celým večerem nás provede herec David Vacke.&nbsp\;Těšit se můžete na welcome drink\, degustaci vína\, raut. Samozřejmostí je bohatá tombola\, benefiční dražba na podporu Verunky.&nbsp\;&nbsp\;&nbsp\;Budeme se na Vás těšit 17.2.2024 v 19:30 v&nbsp\;Sokolovně Starého&nbsp\;Města u Uherského Hradiště. &nbsp\;&nbsp\;Cena vstupenky 650\,-&nbsp\;V ceně vstupenky je hodinová degustace vín od našich sponzorů a bohatý raut\, který uspokojí i náročnější strávníky.&nbsp\;&nbsp\;Pro rezervaci stolu je potřeba napsat váš požadavek na email: kancelar@nadedine.cz&nbsp\;&nbsp\;Hlavním partnerem našeho plesu je REAL KREDIT&nbsp\;a.s.&nbsp\;Další partnery\, hosty a program s Vámi budeme postupně sdílet.&nbsp\;&nbsp\;&nbsp\;TĚŠÍ SE CELÝ TÝM NA DĚDINĚ &nbsp\;&nbsp\;
LOCATION:Staré Město
END:VEVENT
END:VCALENDAR