BEGIN:VCALENDAR
VERSION:2.0
CALSCALE:GREGORIAN
PRODID:-//MyApp//Calendar 1.0//EN
BEGIN:VEVENT
METHOD:PUBLISH
UID:37469@regionalniportaly.cz
DTSTAMP:20260422T070357Z
DTSTART;VALUE=DATE:20240309
DTEND;VALUE=DATE:20240310
SUMMARY:DOGA
DESCRIPTION:Rocková kapela Doga aneb partička kolem frontmana Izzyho brázdí hudební podia se svým nekompromisním stylem již od roku 1988.Po několika letech se vrací do našeho klubu připravena odvést pekelnou show.
LOCATION:Uherské Hradiště
END:VEVENT
END:VCALENDAR