BEGIN:VCALENDAR
VERSION:2.0
CALSCALE:GREGORIAN
PRODID:-//MyApp//Calendar 1.0//EN
BEGIN:VEVENT
METHOD:PUBLISH
UID:37478@regionalniportaly.cz
DTSTAMP:20260422T041614Z
DTSTART;VALUE=DATE:20240316
DTEND;VALUE=DATE:20240317
SUMMARY:Švanci show\, Já su já
DESCRIPTION:
LOCATION:Vlčnov
END:VEVENT
END:VCALENDAR