BEGIN:VCALENDAR
VERSION:2.0
CALSCALE:GREGORIAN
PRODID:-//MyApp//Calendar 1.0//EN
BEGIN:VEVENT
METHOD:PUBLISH
UID:37609@regionalniportaly.cz
DTSTAMP:20260424T183928Z
DTSTART;VALUE=DATE:20240816
DTEND;VALUE=DATE:20240817
SUMMARY:Flamengo Reunion Session
DESCRIPTION:Flamengo Reunion Session&nbsp\;je česká kapela\, která vznikla v roce 2021 na základech jedné z nejvýznamnějších českých rockových skupin 60. a 70. let.
LOCATION:Uherský Brod
END:VEVENT
END:VCALENDAR