BEGIN:VCALENDAR
VERSION:2.0
CALSCALE:GREGORIAN
PRODID:-//MyApp//Calendar 1.0//EN
BEGIN:VEVENT
METHOD:PUBLISH
UID:37869@regionalniportaly.cz
DTSTAMP:20260422T113329Z
DTSTART;VALUE=DATE:20240702
DTEND;VALUE=DATE:20240703
SUMMARY:Alkehol (VIP zóna) - Slovácké léto 2024
DESCRIPTION:Pamatujete\, jak na Slováckém létě hrál Alkehol? To byl rachot\, co? Letos si to pro pořádek zopakujeme. A navíc máte možnost užít si jejich koncert luxusně\, v prostoru VIP zóny s omezenou kapacitou\, s občerstvením a dalším zázemím.&nbsp\;DÁRKOVÝ POUKAZPokud chcete vstupenky věnovat jako dárek\, můžete si stáhnout náš grafický poukaz k vytištění. Stahujte na našich stránkách.
LOCATION:Uherské Hradiště
END:VEVENT
END:VCALENDAR