BEGIN:VCALENDAR
VERSION:2.0
CALSCALE:GREGORIAN
PRODID:-//MyApp//Calendar 1.0//EN
BEGIN:VEVENT
METHOD:PUBLISH
UID:37871@regionalniportaly.cz
DTSTAMP:20260422T101737Z
DTSTART;VALUE=DATE:20240629
DTEND;VALUE=DATE:20240630
SUMMARY:Kapitán DEMO (VIP zóna) - Slovácké léto 2024
DESCRIPTION:Podruhé na Slováckém létě! Originální a jedinečný Kapitán Demo se těší na všechna svá zlatíčka. Máme tušení\, že na Kapitána Dema&nbsp\;bude narváno stejně jako vloni. Vy ale máte možnost užít si koncert ve VIP zóně pro omezený počet návštěvníků\, s pivem nebo vínem\, skvělým výhledem a příjemným zázemím.DÁRKOVÝ POUKAZPokud chcete vstupenky věnovat jako dárek\, můžete si stáhnout náš grafický poukaz k vytištění. Stahujte na našich stránkách.
LOCATION:Uherské Hradiště
END:VEVENT
END:VCALENDAR