BEGIN:VCALENDAR
VERSION:2.0
CALSCALE:GREGORIAN
PRODID:-//MyApp//Calendar 1.0//EN
BEGIN:VEVENT
METHOD:PUBLISH
UID:37872@regionalniportaly.cz
DTSTAMP:20260422T113313Z
DTSTART;VALUE=DATE:20240704
DTEND;VALUE=DATE:20240705
SUMMARY:Majk Spirit (VIP zóna) - Slovácké léto 2024
DESCRIPTION:Poprvé na Slováckém létě! Slovenskou scénu bude letos zastupovat mimo jiné i skvělý raper Majk Spirit. Jeho koncert si můžete užít ve VIP zóně. Co díky tomu získáte? Skvělý výhled\, drink zdarma\, pohodlí a možnost nemačkat se v davu.&nbsp\;DÁRKOVÝ POUKAZPokud chcete vstupenky věnovat jako dárek\, můžete si stáhnout náš grafický poukaz k vytištění. Stahujte na našich stránkách.
LOCATION:Uherské Hradiště
END:VEVENT
END:VCALENDAR