BEGIN:VCALENDAR
VERSION:2.0
CALSCALE:GREGORIAN
PRODID:-//MyApp//Calendar 1.0//EN
BEGIN:VEVENT
METHOD:PUBLISH
UID:37873@regionalniportaly.cz
DTSTAMP:20260422T131950Z
DTSTART;VALUE=DATE:20240703
DTEND;VALUE=DATE:20240704
SUMMARY:Pokáč (VIP zóna) - Slovácké léto 2024
DESCRIPTION:Když přijel Pokáč na Slovácké léto poprvé\, málem zboural fotbalový stadion. Když přijel podruhé a potřetí\, podařilo se mu málem to samé s Masarykovým náměstím. A letos znovu očekáváme „plný dům“. Co takhle nemačkat se v davu\, ale zazpívat si Kočku v pohodlí VIP zóny s pivem či vínem v ruce? Spolu s Pokáčem se na Slováckém létě už poněkolikáté představí i domácí akuStyk.&nbsp\;DÁRKOVÝ POUKAZPokud chcete vstupenky věnovat jako dárek\, můžete si stáhnout náš grafický poukaz k vytištění. Stahujte na našich stránkách.
LOCATION:Uherské Hradiště
END:VEVENT
END:VCALENDAR