BEGIN:VCALENDAR
VERSION:2.0
CALSCALE:GREGORIAN
PRODID:-//MyApp//Calendar 1.0//EN
BEGIN:VEVENT
METHOD:PUBLISH
UID:37874@regionalniportaly.cz
DTSTAMP:20260422T084444Z
DTSTART;VALUE=DATE:20240628
DTEND;VALUE=DATE:20240629
SUMMARY:Olympic + Žlutý Pes - Slovácké léto 2024
DESCRIPTION:Těžko bychom hledali větší českou rockovou legendu\, než je kapela Olympic. Letos ve velkém stylu zahájí Slovácké léto společně s předskokanem\, skupinou Žlutý pes.&nbsp\;
LOCATION:Uherské Hradiště
END:VEVENT
END:VCALENDAR