BEGIN:VCALENDAR
VERSION:2.0
CALSCALE:GREGORIAN
PRODID:-//MyApp//Calendar 1.0//EN
BEGIN:VEVENT
METHOD:PUBLISH
UID:37928@regionalniportaly.cz
DTSTAMP:20260422T113248Z
DTSTART;VALUE=DATE:20240630
DTEND;VALUE=DATE:20240701
SUMMARY:Argema (VIP zóna) - Slovácké léto 2024
DESCRIPTION:Argema je jedna ze stálic Slováckého léta a její koncerty navštěvují nejen domácí fanoušci. Zatím pokaždé zaplnila Masarykovo náměstí a letos ji doplní i předskokan\, další domácí hvězda Honza Grebík. Vy máte možnost užít si koncert ve VIP zóně pro omezený počet návštěvníků\, s pivem nebo vínem a příjemným zázemím.&nbsp\;DÁRKOVÝ POUKAZPokud chcete vstupenky věnovat jako dárek\, můžete si stáhnout náš grafický poukaz k vytištění. Stahujte na našich stránkách.
LOCATION:Uherské Hradiště
END:VEVENT
END:VCALENDAR