BEGIN:VCALENDAR
VERSION:2.0
CALSCALE:GREGORIAN
PRODID:-//MyApp//Calendar 1.0//EN
BEGIN:VEVENT
METHOD:PUBLISH
UID:38019@regionalniportaly.cz
DTSTAMP:20260422T005719Z
DTSTART;VALUE=DATE:20240119
DTEND;VALUE=DATE:20240120
SUMMARY:12:PLES
DESCRIPTION:12:PIET začíná hrát a to rovnú v rodnéj Nivnici Je plesová sezóna\, tož sa pěkně oblečte nech sa lúbíte.
LOCATION:Nivnice
END:VEVENT
END:VCALENDAR