BEGIN:VCALENDAR
VERSION:2.0
CALSCALE:GREGORIAN
PRODID:-//MyApp//Calendar 1.0//EN
BEGIN:VEVENT
METHOD:PUBLISH
UID:38064@regionalniportaly.cz
DTSTAMP:20260424T161117Z
DTSTART;VALUE=DATE:20240703
DTEND;VALUE=DATE:20240704
SUMMARY:Ray Service Sahara Open - Slovácké léto 2024
DESCRIPTION:Tato klasická francouzská společenská hra\, které sluší pohodová atmosféra a sklenka lahodného vína\, si nepřekvapivě našla své místo i u nás na Slovácku. Ve spolupráci s Petanque Klub Stříbrné kule Buchlovice každoročně připravujeme turnaj v plážovém pétanque s názvem Sahara Open.Sahara Open je jedním z&nbsp\;otevřených turnajů Slováckého léta a nabízí všem jedinečnou možnost vyzkoušet si přesnost hodu na netradičním povrchu. Můžete povzbudit své známé nebo jen prožít přátelskou atmosféru\, ve které se celé saharské zápolení odehrává.&nbsp\;Petanque Klub Stříbrné kule Buchlovice byl založen v roce 2004 a každoročně se pod jeho hlavičkou odehrává deset turnajů. Na konci ročníku je vždy vyhlášeno TOP 16 nejlepších hráčů. Pokud vás na Slováckém létě pétanque uchvátí\, zajeďte si zahrát i do Buchlovic\, místní „stříbrné kule“ vás rády uvidí.Hlavním partnerem turnaje je společnost&nbsp\;Ray Service.Pro přidání dalšího trika k registraci zvolte při nákupu vstupenky "Přidat další vstupenku" v rolovacím menu pak "Přidat MERCH"\, následně si můžete vybrat požadovanou velikost
LOCATION:Uherské Hradiště
END:VEVENT
END:VCALENDAR