BEGIN:VCALENDAR
VERSION:2.0
CALSCALE:GREGORIAN
PRODID:-//MyApp//Calendar 1.0//EN
BEGIN:VEVENT
METHOD:PUBLISH
UID:38065@regionalniportaly.cz
DTSTAMP:20260422T100657Z
DTSTART;VALUE=DATE:20240629
DTEND;VALUE=DATE:20240630
SUMMARY:DECATHLON Žhavá "10" - Slovácké léto 2024
DESCRIPTION:Dostaňte&nbsp\;své srdce do rytmu\, kterým tepe Hradiště při Slováckém létě.&nbsp\;Proběhněte se historickým centrem Uherského Hradiště\, poznáte krásy řeky Moravy a místního lesoparku\, ti nejvytrvalejší i novoveské jezera.Osmý ročník běhu pod hlavičkou Slováckého léta vám dá šanci vyplavit endorfiny a vychutnat si krásu pohybu\, ať jste profík nebo máma či táta malých dětí.Vyberte si podle své chuti trasu 5\, 10 nebo 21 kilometrů.DECATHLON Žhavá "10"Start i cíl je na Masarykově náměstí\, odkud poběžíte k řece Moravě\, podél jejího toku až ke splavu a dál k soutoku Moravy a Olšavy. Napojíte se na cyklostezku u kunovického Letu a odtud se vydáte zpět na Masarykovo náměstí.&nbsp\;Prezence od 14:00&nbsp\;do 16:30&nbsp\;hodin\, start v 17:15. Pro bližší informace srolujte na stránce níže na propozice.V rámci registrace je možné zakoupit také festivalový merch za zvýhodněnou cenu. Pro přidání dalšího trika k registraci zvolte při nákupu vstupenky “Přidat další vstupneku” v rolovacím menu pak “Přidat MERCH”\, následně si můžete vybrat poždovanou velikostVíce informací na&nbsp\;www.slovackeleto.cz
LOCATION:Uherské Hradiště
END:VEVENT
END:VCALENDAR