BEGIN:VCALENDAR
VERSION:2.0
CALSCALE:GREGORIAN
PRODID:-//MyApp//Calendar 1.0//EN
BEGIN:VEVENT
METHOD:PUBLISH
UID:38066@regionalniportaly.cz
DTSTAMP:20260422T101227Z
DTSTART;VALUE=DATE:20240629
DTEND;VALUE=DATE:20240630
SUMMARY:DECATHLON Žhavá "21" - Slovácké léto 2024
DESCRIPTION:Dostaňte&nbsp\;své srdce do rytmu\, kterým tepe Hradiště při Slováckém létě.&nbsp\;Proběhněte se historickým centrem Uherského Hradiště\, poznáte krásy řeky Moravy a místního lesoparku\, ti nejvytrvalejší i novoveské jezera.Osmý ročník běhu pod hlavičkou Slováckého léta vám dá šanci vyplavit endorfiny a vychutnat si krásu pohybu\, ať jste profík nebo máma či táta malých dětí.Vyberte si podle své chuti trasu 5\, 10 nebo 21 kilometrů.DECATHLON Žhavá “21”Start i cíl půlmaratonu je v centru Uherského Hradiště\, na Masarykově náměstí\, následuje krátký průběh městem k řece Moravě. Při břehu Moravy poběžíte až k jejímu soutoku s Olšavou. Přes most vás trasa zavede Kunovským lesem k novoveským jezerům. Za golfovým hřištěm se napojíte na cyklostezku směrem na Kunovice. Stezka vás přivede zpět k řece Olšavě\, pokračovat budete podél jejího levého břehu až k mostu u kunovického Letu\, kde už se pomalu dostáváte k vytouženému cíli\, který vás čeká opět na Masarykově náměstí.Prezence od 14:00&nbsp\;do 16:30&nbsp\;hodin\, start v 17:00. Pro bližší informace srolujte na stránce níže na propozice.V rámci registrace je možné zakoupit také festivalový merch za zvýhodněnou cenu. Pro přidání dalšího trika k registraci zvolte při nákupu vstupenky “Přidat další vstupneku” v rolovacím menu pak “Přidat MERCH”\, následně si můžete vybrat poždovanou velikostVíce informací na&nbsp\;www.slovackeleto.cz
LOCATION:Uherské Hradiště
END:VEVENT
END:VCALENDAR