BEGIN:VCALENDAR
VERSION:2.0
CALSCALE:GREGORIAN
PRODID:-//MyApp//Calendar 1.0//EN
BEGIN:VEVENT
METHOD:PUBLISH
UID:38067@regionalniportaly.cz
DTSTAMP:20260422T101705Z
DTSTART;VALUE=DATE:20240629
DTEND;VALUE=DATE:20240630
SUMMARY:KYOCERA AVX CUP - Slovácké léto 2024
DESCRIPTION:Plážový fotbal neboli beach soccer je jednou z nejatraktivnějších sportovních aktivit\, kterou Slovácké léto nabídne i v letošním roce. V programu si za poslední roky turnaj v plážovém fotbale vybudoval silnou pozici a stal se jednou z nejoblíbenějších sportovních disciplín u hráčů i fanoušků.Těšte na skvělou fotbalovou podívanou v sobotu 29. 6. 2024.Pro přidání dalšího trika k registraci zvolte při nákupu vstupenky "Přidat další vstupneku" v rolovacím menu pak "Přidat MERCH"\, následně si můžete vybrat poždovanou velikost
LOCATION:Uherské Hradiště
END:VEVENT
END:VCALENDAR