BEGIN:VCALENDAR
VERSION:2.0
CALSCALE:GREGORIAN
PRODID:-//MyApp//Calendar 1.0//EN
BEGIN:VEVENT
METHOD:PUBLISH
UID:38118@regionalniportaly.cz
DTSTAMP:20260422T113443Z
DTSTART;VALUE=DATE:20240630
DTEND;VALUE=DATE:20240701
SUMMARY:Fitness Day - Slovácké léto 2024
DESCRIPTION:Zdravíme všechny příznivkyně fitness\, pohybu a zdraví pro celou rodinu.Fitness studio Fit4life na letošním Slováckém létě nabídne program plný pohybu i zábavy.FITNESS DAY (30. 6. 2024)Celkem čtyři lekce (Tabata\, kruhový trénink\, břišní pekáč – sexy zadek\, body balance – strečink)&nbsp\;plné pohybu a nabité energií. Přijďte si v sobotu dopoledne protáhnout tělo.V rámci registrace je možné zakoupit také festivalový merch za zvýhodněnou cenu. Pro přidání dalšího trika k registraci zvolte při nákupu vstupenky “Přidat další vstupneku” v rolovacím menu pak “Přidat MERCH”\, následně si můžete vybrat poždovanou velikostVíce informací na&nbsp\;www.slovackeleto.cz
LOCATION:Uherské Hradiště
END:VEVENT
END:VCALENDAR