BEGIN:VCALENDAR
VERSION:2.0
CALSCALE:GREGORIAN
PRODID:-//MyApp//Calendar 1.0//EN
BEGIN:VEVENT
METHOD:PUBLISH
UID:38119@regionalniportaly.cz
DTSTAMP:20260422T113415Z
DTSTART;VALUE=DATE:20240702
DTEND;VALUE=DATE:20240703
SUMMARY:Jumping Maraton - Slovácké léto 2024
DESCRIPTION:JUMPING MARATON (2. 7. 2024)Na Jumping maratonu vás čeká nejen skákání nahoru a dolů. Těšit se můžete i na skvělou hudbu a perfektní atmosféru. Kardio skákání se střídá s pomalejšími posilovacími intervaly. Do kondice tak dostanete nejen nohy\, ale i celé tělo. Přijďte a zbavíte se nadbytečných kil i špatné nálady!Lekce Jumpingu jsou vhodné pro všechny\, od začátečníků po profesionální sportovce\, bez věkového omezení. Každý skáče a cvičí jak může.V rámci registrace je možné zakoupit také festivalový merch za zvýhodněnou cenu. Pro přidání dalšího trika k registraci zvolte při nákupu vstupenky “Přidat další vstupneku” v rolovacím menu pak “Přidat MERCH”\, následně si můžete vybrat poždovanou velikostVíce informací na&nbsp\;www.slovackeleto.cz
LOCATION:Uherské Hradiště
END:VEVENT
END:VCALENDAR