BEGIN:VCALENDAR
VERSION:2.0
CALSCALE:GREGORIAN
PRODID:-//MyApp//Calendar 1.0//EN
BEGIN:VEVENT
METHOD:PUBLISH
UID:38261@regionalniportaly.cz
DTSTAMP:20260422T113109Z
DTSTART;VALUE=DATE:20240703
DTEND;VALUE=DATE:20240703
SUMMARY:Festival IQ Play - Slovácké léto 2024
DESCRIPTION:Festival IQ Play je putovní hravá výstava\, na které jsou k vidění\, ale hlavně k vyzkoušení hry a hračky edukativního charakteru\, smyslové hračky\, Montessori pomůcky\, dřevěné hračky\, logické hry\, stavebnice a hlavolamy. Festival je připraven tak\, aby zabavil široké spektrum návštěvníků - dospělé\, seniory\, zdravotně znevýhodněné osoby a děti. Rozvoj logického myšlení a kreativity je důležité v každém věku a našim cílem je\, aby si na akci pohráli i dospělí\, kterým podpora kreativity chybí.&nbsp\;Zahrát a potrápit své mozkové buňky si můžete ve středu 3.7. od 10 do 18 hodin.
LOCATION:Uherské Hradiště
END:VEVENT
END:VCALENDAR