BEGIN:VCALENDAR
VERSION:2.0
CALSCALE:GREGORIAN
PRODID:-//MyApp//Calendar 1.0//EN
BEGIN:VEVENT
METHOD:PUBLISH
UID:38297@regionalniportaly.cz
DTSTAMP:20260422T023603Z
DTSTART;VALUE=DATE:20240203
DTEND;VALUE=DATE:20240204
SUMMARY:1. filmový ples ve Strážnici
DESCRIPTION:1. FILMOVÝ PLES VE STRÁŽNICI&nbsp\;Datum: 3.2.2024Čas: Od 19:00Místo: Restaurace SkanzenTéma plesu: Steven Spielberg alá Met Gala po Strážnicku!Bohatá tombola zajištěna!Koncert kapely:Filip Kaňkovský "Green Småtroll"Vystoupení taneční skupiny:ARCOBALLENOAfter Midnight DJ's PartyDress Code: Black Tie nebo Black Tie CreativePředprodej vstupenek:Hospůdka u Polámené branky\, StrážniceOnline na www.letnikinostraznice.czRezervace stolů na tel. č.: 777 059 060Vstupné: 399\,-&nbsp\;Každý návštěvník obdrží milý dárek!Těšíme se na vás na nezapomenutelném filmovém plese!&nbsp\;
LOCATION:Strážnice
END:VEVENT
END:VCALENDAR