BEGIN:VCALENDAR
VERSION:2.0
CALSCALE:GREGORIAN
PRODID:-//MyApp//Calendar 1.0//EN
BEGIN:VEVENT
METHOD:PUBLISH
UID:38322@regionalniportaly.cz
DTSTAMP:20260422T041445Z
DTSTART;VALUE=DATE:20240412
DTEND;VALUE=DATE:20240413
SUMMARY:10x3 Tour 2024 (Totální nasazení\, The Fialky\, Nežfaleš)
DESCRIPTION:10x3 Tour 2024 (Totální nasazení\, The Fialky\, Nežfaleš)Koncert tří současných špiček českého punk-rocku. Turné 10x3 (deset štací x tři kapely) navazuje na předloňskou šňůru\, která byla z&nbsp\;devadesáti procent vyprodaná. Těšit se můžete na osvědčené punkové sypačky i na novější kousky.&nbsp\;
LOCATION:Uherské Hradiště
END:VEVENT
END:VCALENDAR