BEGIN:VCALENDAR
VERSION:2.0
CALSCALE:GREGORIAN
PRODID:-//MyApp//Calendar 1.0//EN
BEGIN:VEVENT
METHOD:PUBLISH
UID:38441@regionalniportaly.cz
DTSTAMP:20260422T083048Z
DTSTART;VALUE=DATE:20240621
DTEND;VALUE=DATE:20240622
SUMMARY:Synkopy 61 LIVE
DESCRIPTION:Po 40 letech na Zlínsku se můžeme těšit na Synkopy 61 i když někteří členové už hrají a dělají radost v nebi \,pořád jim&nbsp\; to ide .
LOCATION:Uherský Brod
END:VEVENT
END:VCALENDAR