BEGIN:VCALENDAR
VERSION:2.0
CALSCALE:GREGORIAN
PRODID:-//MyApp//Calendar 1.0//EN
BEGIN:VEVENT
METHOD:PUBLISH
UID:38609@regionalniportaly.cz
DTSTAMP:20260422T070319Z
DTSTART;VALUE=DATE:20240405
DTEND;VALUE=DATE:20240406
SUMMARY:Techtle Mechtle - All Inclusive Bibione
DESCRIPTION:Nejúspěšnější česká travesti show&nbsp\;Techtle Mechtle&nbsp\;přiváží zbrusu nové divadelní představení s&nbsp\;názvem&nbsp\;\,\,All inclusive Bibione\,\, do Ratíškovic!Techtle Mechtle revue&nbsp\;je v&nbsp\;současné době nejúspěšnější česká show na poli divadelní scény. V&nbsp\;podání&nbsp\;Techtle Mechtle&nbsp\;se totiž vždy jedná o propracované divadelní představení s&nbsp\;výpravnou scénou\, více jak 80ti kostýmy a&nbsp\;dějovou linkou. Všechna představení jsou jednou velkou komedií\, a to od začátku až do konce. Má to jen jeden háček – všechny role\, a to včetně těch dámských\, tu hrají pouze muži a ti jsou navíc k&nbsp\;nerozeznání od skutečných žen. Pánové&nbsp\;Lukáš\, Martin\, Nikolas a Saša&nbsp\;společně s&nbsp\;tanečníky&nbsp\;Štěpánem\, Jarkem\, Sayem a Danem&nbsp\;pro Vás tentokrát připravili další nadupanou show.Jak už samotný název&nbsp\;\,\,All inclusive Bibione\,\,&nbsp\;napovídá\, představení bude nabité letní atmosférou\, sluncem\, mořem a hlavně – pořádnou dávkou českého humoru. Co všechno se může stát\, když se typicky česká rodina na úsporném režimu vypraví na cestu do Bibione\, aby poprvé v&nbsp\;živote viděla moře? Mají si vůbec manželé po 36-ti letech soužití na společné dovolené ještě co povědět? Podaří se jim oživit při západu slunce jiskru jejich skomírajícího vztahu a nebo zbytky jejich vzájemného pochopení zmizí na vždy na dně moře mezi chaluhy a chobotnice? Volné pokračování divácky velmi úspěšného představení&nbsp\;\,\,Dokud nás smrt nerozdělí\,\,&nbsp\;přichází v&nbsp\;podobě&nbsp\;\,\,All inclusive Bibione\,\,
LOCATION:Ratíškovice
END:VEVENT
END:VCALENDAR