BEGIN:VCALENDAR
VERSION:2.0
CALSCALE:GREGORIAN
PRODID:-//MyApp//Calendar 1.0//EN
BEGIN:VEVENT
METHOD:PUBLISH
UID:38765@regionalniportaly.cz
DTSTAMP:20260422T113130Z
DTSTART;VALUE=DATE:20240702
DTEND;VALUE=DATE:20240703
SUMMARY:CZ Mix Profi Night - Slovácké léto 2024
DESCRIPTION:CZ MIX PROFI NIGHT - noční turnaj smíšených dvojic (2. 7. 2024)Již tradiční noční turnaj mixů s neopakovatelnou atmosférou. Dvacet čtyři dvojic se utká o vítězství v úterý 2. července.Turnaj &nbsp\;je určen pro aktivní hráče a hráčky plážového volejbalu.V rámci registrace je možné zakoupit také festivalový merch za zvýhodněnou cenu. Pro přidání dalšího trika k registraci zvolte při nákupu vstupenky “Přidat další vstupneku” v rolovacím menu pak “Přidat MERCH”\, následně si můžete vybrat poždovanou velikostVíce informací na&nbsp\;www.slovackeleto.cz
LOCATION:Uherské Hradiště
END:VEVENT
END:VCALENDAR