BEGIN:VCALENDAR
VERSION:2.0
CALSCALE:GREGORIAN
PRODID:-//MyApp//Calendar 1.0//EN
BEGIN:VEVENT
METHOD:PUBLISH
UID:38766@regionalniportaly.cz
DTSTAMP:20260422T101721Z
DTSTART;VALUE=DATE:20240629
DTEND;VALUE=DATE:20240630
SUMMARY:CZ Open neregistrované ženy - Slovácké léto 2024
DESCRIPTION:CZ OPEN – neregistrované ženy17. ročník otevřeného turnaje v plážovém volejbaleKolik kategorií jsme letos otevřeli? Čtyři.Jaké? Registrovaní a neregistrovaní muži\, registrované a neregistrované ženy.Kolik dvojic může hrát v&nbsp\;každé kategorii? 16.Kde budeme hrát? Masarykovo náměstí\, Slovácká Slavia Uherské Hradiště\, Rybníček Staré Město\, Sokolovna Staré Město.Začínáme v sobotu 28. červena.V rámci registrace je možné zakoupit také festivalový merch za zvýhodněnou cenu. Pro přidání dalšího trika k registraci zvolte při nákupu vstupenky “Přidat další vstupneku” v rolovacím menu pak “Přidat MERCH”\, následně si můžete vybrat poždovanou velikostVíce informací na&nbsp\;www.slovackeleto.cz
LOCATION:Uherské Hradiště
END:VEVENT
END:VCALENDAR