BEGIN:VCALENDAR
VERSION:2.0
CALSCALE:GREGORIAN
PRODID:-//MyApp//Calendar 1.0//EN
BEGIN:VEVENT
METHOD:PUBLISH
UID:38808@regionalniportaly.cz
DTSTAMP:20260422T113138Z
DTSTART;VALUE=DATE:20240702
DTEND;VALUE=DATE:20240703
SUMMARY:In-line bruslení - Slovácké léto 2024
DESCRIPTION:Vychutnejte si s&nbsp\;námi i letos úžasnou atmosféru hromadné projížďky na in-line bruslích centrem Uherského Hradiště. O zábavu se postará doprovodné vozidlo s moderátorem a instruktoři in-line školy ze&nbsp\;Sportparku Rybníček. Délka jednoho okruhu je 5\,1 km\, celkem pojedeme dvakrát.V rámci registrace je možné zakoupit také festivalový merch za zvýhodněnou cenu. Pro přidání dalšího trika k registraci zvolte při nákupu vstupenky “Přidat další vstupneku” v rolovacím menu pak “Přidat MERCH”\, následně si můžete vybrat poždovanou velikostVíce informací na&nbsp\;www.slovackeleto.cz
LOCATION:Uherské Hradiště
END:VEVENT
END:VCALENDAR