BEGIN:VCALENDAR
VERSION:2.0
CALSCALE:GREGORIAN
PRODID:-//MyApp//Calendar 1.0//EN
BEGIN:VEVENT
METHOD:PUBLISH
UID:38973@regionalniportaly.cz
DTSTAMP:20260422T053026Z
DTSTART;VALUE=DATE:20240420
DTEND;VALUE=DATE:20240421
SUMMARY:MOSH FOR LIFE
DESCRIPTION:Rádi bychom vás pozvali po delší době na akci čistě metalcorovou\, která v Uherském Hradišti ještě nebyla! Můžete se těšit na kapely The Switch\, SEVERALS m X-CORE&nbsp\;a WeTheGods. 🔥 Namažte si pod koleny\, protože tohle bude jeden velký mosh pit
LOCATION:Uherské Hradiště
END:VEVENT
END:VCALENDAR