BEGIN:VCALENDAR
VERSION:2.0
CALSCALE:GREGORIAN
PRODID:-//MyApp//Calendar 1.0//EN
BEGIN:VEVENT
METHOD:PUBLISH
UID:38975@regionalniportaly.cz
DTSTAMP:20260422T101640Z
DTSTART;VALUE=DATE:20240629
DTEND;VALUE=DATE:20240630
SUMMARY:My na to máme - Divadelní spolek Sokol - Slovácké léto 2024
DESCRIPTION:Ochotnický divadelní soubor Sokol Staré Město uvádí divadelní hru My na to máme!Příběh je zasazen do malé obce\, kde jsou hlavním tématem starostovy kulaté narozeniny. „Tato událost nenechá nikoho klidným a&nbsp\;každý se&nbsp\;chce podílet na&nbsp\;oslavách těchto narozenin. Z&nbsp\;toho nakonec vyplyne\, že se&nbsp\;na oslavě ocitnou i&nbsp\;diváci\, a&nbsp\;tady doufáme\, že se&nbsp\;budou velmi dobře bavit\,“ zve na&nbsp\;premiéru herečka Renata Nadal Látalová za&nbsp\;ansámbl.Autorský kus napsala doslova na&nbsp\;míru Anna Hudáková\, která se&nbsp\;ujala i&nbsp\;režie. „Častokrát se&nbsp\;stává\, že určitou divadelní hru nezávisle na&nbsp\;sobě nastudují dva soubory. Toto se&nbsp\;stalo i&nbsp\;našemu divadelnímu souboru. Minulou hru Obecně prospěšná strašidla uvedl divadelní soubor z&nbsp\;nedalekého okolí a&nbsp\;premiéru uvedl dříve než náš. Proto se&nbsp\;režisérka a&nbsp\;zároveň i&nbsp\;autorka rozhodla napsat divadelní soubor pro náš soubor\,“ vysvětluje Renata Nadal Látalová.
LOCATION:Uherské Hradiště
END:VEVENT
END:VCALENDAR