BEGIN:VCALENDAR
VERSION:2.0
CALSCALE:GREGORIAN
PRODID:-//MyApp//Calendar 1.0//EN
BEGIN:VEVENT
METHOD:PUBLISH
UID:38979@regionalniportaly.cz
DTSTAMP:20260422T072630Z
DTSTART;VALUE=DATE:20240427
DTEND;VALUE=DATE:20240428
SUMMARY:Otevřené sklepy vinařů Strážnicka
DESCRIPTION:Vinaři Strážnicka ve spolupráci s Vinařským fondem české republiky si vás poslední dubnovou sobotu dovolují pozvat na Otevřené sklepy Vinařů Strážnicka. Akce se uskuteční ve dvou areálech a to Vinných sklepů v Sudoměřicích nad Moravou a petrovských Plžů. Na místě můžete ochutnat více než&nbsp\;200&nbsp\;vzorků&nbsp\;vín od&nbsp\;16 vinařů.&nbsp\;&nbsp\;Zakoupením vstupenky získáte:- skleničku s nosičem- katalog s přehledem vinařství i nabízených vín- propiska- volný košt vzorků vín- tři kupony v celkové hodnotě 300 Kč na nákup nabízených vín- autobusová doprava mezi jednotlivými areály- kulturní program&nbsp\;V každém areálu je zajištěna cimbálová muzika a&nbsp\;bohaté občerstvení. Doprava na místo konání je pro účastníky zajištěna zdarma svozovými i rozvozovými autobusy ze Strážnice i Skalice. Mezi jednotlivými areály bude v průběhu akce zajištěna kyvadlová doprava.&nbsp\;Odběr nakoupených vín je možný i v neděli od 9:00 hod. do 12:00 hod.&nbsp\;&nbsp\;
LOCATION:Sudoměřice
END:VEVENT
END:VCALENDAR