BEGIN:VCALENDAR
VERSION:2.0
CALSCALE:GREGORIAN
PRODID:-//MyApp//Calendar 1.0//EN
BEGIN:VEVENT
METHOD:PUBLISH
UID:39530@regionalniportaly.cz
DTSTAMP:20260422T072855Z
DTSTART;VALUE=DATE:20240405
DTEND;VALUE=DATE:20240406
SUMMARY:MANENE | Club No.6
DESCRIPTION:MANENE&nbsp\;5. dubna 2024Club No.6\, Uherské HradištěVstup 16+
LOCATION:Uherské Hradiště
END:VEVENT
END:VCALENDAR