BEGIN:VCALENDAR
VERSION:2.0
CALSCALE:GREGORIAN
PRODID:-//MyApp//Calendar 1.0//EN
BEGIN:VEVENT
METHOD:PUBLISH
UID:39845@regionalniportaly.cz
DTSTAMP:20260422T085144Z
DTSTART;VALUE=DATE:20240423
DTEND;VALUE=DATE:20240424
SUMMARY:Ondráš - Z kraje do kraje
DESCRIPTION:Z KRAJE DO KRAJEfolklorní tanečně-hudební pořad profesionální části souboru sestavený pro rok 2024Pořad Z kraje do kraje je dynamickou mozaikou tanečních a hudebních čísel představujících lidovou kulturu různých etnografických regionů nejen Čech a Moravy\, ale také sousedního Slovenska\, či dalších oblastí karpatského oblouku. Toto propojení je unikátní a nabízí mimořádný umělecký zážitek.
LOCATION:Svatobořice-Mistřín
END:VEVENT
END:VCALENDAR