BEGIN:VCALENDAR
VERSION:2.0
CALSCALE:GREGORIAN
PRODID:-//MyApp//Calendar 1.0//EN
BEGIN:VEVENT
METHOD:PUBLISH
UID:39846@regionalniportaly.cz
DTSTAMP:20260422T101840Z
DTSTART;VALUE=DATE:20240608
DTEND;VALUE=DATE:20240609
SUMMARY:Moravians - koncert
DESCRIPTION:MORAVIANS - folkrocková kapela byla založená v roce 2021 zpěvákem Vaškem Řihákem. Hrají lidové písně tak\, aby je co nejvíc přiblížili i mladším posluchačům.
LOCATION:Svatobořice-Mistřín
END:VEVENT
END:VCALENDAR