BEGIN:VCALENDAR
VERSION:2.0
CALSCALE:GREGORIAN
PRODID:-//MyApp//Calendar 1.0//EN
BEGIN:VEVENT
METHOD:PUBLISH
UID:39871@regionalniportaly.cz
DTSTAMP:20260422T085216Z
DTSTART;VALUE=DATE:20240423
DTEND;VALUE=DATE:20240424
SUMMARY:VUS ONDRÁŠ
DESCRIPTION:Z KRAJE DO KRAJEfolklorní tanečně-hudební pořad profesionální části souboru sestavený pro rok 2024Pořad Z kraje do kraje je dynamickou mozaikou tanečních a hudebních čísel představujících lidovou kulturu různých etnografických regionů nejen Čech a Moravy\, ale také sousedního Slovenska\, či dalších oblastí karpatského oblouku. Toto propojení je unikátní a nabízí mimořádný umělecký zážitek.Délka pořadu: 70 minutVsupné v předprodeji 200Kč\, na místě 250 KčÚčinkuje: profesionální část souboru (taneční skupina\, Orchestr lidových nástrojů a sólistky dívčího sboru)&nbsp\;
LOCATION:Svatobořice-Mistřín
END:VEVENT
END:VCALENDAR