BEGIN:VCALENDAR
VERSION:2.0
CALSCALE:GREGORIAN
PRODID:-//MyApp//Calendar 1.0//EN
BEGIN:VEVENT
METHOD:PUBLISH
UID:40402@regionalniportaly.cz
DTSTAMP:20260424T231057Z
DTSTART;VALUE=DATE:20240921
DTEND;VALUE=DATE:20240922
SUMMARY:NUCLEAR SLAM
DESCRIPTION:Takže brutal death slam banda CYTOTOXIN se svým vysoce toxickým a ultra rychlým materiálem zavítá do Uherského Hradiště v rámci prvního ročníku akce NUCLEAR SLAM \, kterou bychom chtěli každoročně opakovat. Support k těmto mistrům blast beatu budou dělat 3 kapely. Zástupci moderního pojetí stylů jako slam \, beat down a death core budou kapely SILENT GENERATION z Prahy a ABBYS ABOVE ze Slovenska. Lavinu pig squealů přeruší na malý monet thrash/death metalová vsuvka v podobě HORRIBLE CREATURES .
LOCATION:Uherské Hradiště
END:VEVENT
END:VCALENDAR